BEGIN:VCALENDAR
VERSION:2.0
PRODID:-//SALSADELANTE - ECPv5.9.1//NONSGML v1.0//EN
CALSCALE:GREGORIAN
METHOD:PUBLISH
X-WR-CALNAME:SALSADELANTE
X-ORIGINAL-URL:https://salsaperigueux.fr/salsa
X-WR-CALDESC:évènements pour SALSADELANTE
BEGIN:VTIMEZONE
TZID:UTC
BEGIN:STANDARD
TZOFFSETFROM:+0000
TZOFFSETTO:+0000
TZNAME:UTC
DTSTART:20150101T000000
END:STANDARD
END:VTIMEZONE
BEGIN:VEVENT
DTSTART;TZID=UTC:20151203T200000
DTEND;TZID=UTC:20151203T230000
DTSTAMP:20260419T140033
CREATED:20150707T041437Z
LAST-MODIFIED:20151202T090800Z
UID:287-1449172800-1449183600@salsaperigueux.fr
SUMMARY:Cours de Salsa cubaine au Rive avec salsadelante
DESCRIPTION:Cours pour la saison 2015- 2016 \nTous les jeudis à partir de 20 h \n Faire une recherche sur Google\n\n 2 votes\n\n	Articles similaires
URL:https://salsaperigueux.fr/salsa/event/reprise-des-cours-de-salsa-cubaine-au-rive-avec-salsadelante/
ORGANIZER;CN="Salsadelante":MAILTO:salsadelante@hotmail.fr
END:VEVENT
END:VCALENDAR